BEGIN:VCALENDAR
VERSION:2.0
PRODID:-//Academia Arguello - ECPv6.8.1//NONSGML v1.0//EN
CALSCALE:GREGORIAN
METHOD:PUBLISH
X-ORIGINAL-URL:https://aa.edu.ar
X-WR-CALDESC:Eventos para Academia Arguello
REFRESH-INTERVAL;VALUE=DURATION:PT1H
X-Robots-Tag:noindex
X-PUBLISHED-TTL:PT1H
BEGIN:VTIMEZONE
TZID:America/Argentina/Cordoba
BEGIN:STANDARD
TZOFFSETFROM:-0300
TZOFFSETTO:-0300
TZNAME:-03
DTSTART:20250101T000000
END:STANDARD
END:VTIMEZONE
BEGIN:VEVENT
DTSTART;TZID=America/Argentina/Cordoba:20250401T090000
DTEND;TZID=America/Argentina/Cordoba:20250401T113000
DTSTAMP:20260422T110118
CREATED:20250328T142555Z
LAST-MODIFIED:20250328T142555Z
UID:10001160-1743498000-1743507000@aa.edu.ar
SUMMARY:LECTURA: ¡LA HISTORIA COMIENZA AQUI!
DESCRIPTION:Lectura: ¡La historia comienza aquí!\, de Caroline Merola. \n5B. 9.00 h\n4C. 9.30 h\n5C. 10.00 h\n5A. 10.30 h\n4A y B. 11.30 h
URL:https://aa.edu.ar/evento/lectura-la-historia-comienza-aqui/
CATEGORIES:Inicial
END:VEVENT
END:VCALENDAR