BEGIN:VCALENDAR
VERSION:2.0
PRODID:-//Academia Arguello - ECPv6.8.1//NONSGML v1.0//EN
CALSCALE:GREGORIAN
METHOD:PUBLISH
X-ORIGINAL-URL:https://aa.edu.ar
X-WR-CALDESC:Eventos para Academia Arguello
REFRESH-INTERVAL;VALUE=DURATION:PT1H
X-Robots-Tag:noindex
X-PUBLISHED-TTL:PT1H
BEGIN:VTIMEZONE
TZID:America/Argentina/Cordoba
BEGIN:STANDARD
TZOFFSETFROM:-0300
TZOFFSETTO:-0300
TZNAME:-03
DTSTART:20250101T000000
END:STANDARD
END:VTIMEZONE
BEGIN:VEVENT
DTSTART;TZID=America/Argentina/Cordoba:20250219T103000
DTEND;TZID=America/Argentina/Cordoba:20250219T113000
DTSTAMP:20260422T165550
CREATED:20241227T155659Z
LAST-MODIFIED:20241227T160153Z
UID:10001109-1739961000-1739964600@aa.edu.ar
SUMMARY:REUNIÓN DE PADRES - Salas de 2 y 3
DESCRIPTION:Los esperamos el Miércoles 19 de Febrero en la Biblioteca de Academia Argüello a las 10.30h \nTRAER LA CAJA DE MATERIALES Y DOCUMENTACIÓN. \nPodes encontrar la lista de materiales en el siguiente link: https://aa.edu.ar/novedades/lista-de-utiles-2025-nivel-inicial/
URL:https://aa.edu.ar/evento/reunion-de-padres-salas-de-2-y-3/
CATEGORIES:Inicial
ATTACH;FMTTYPE=image/jpeg:https://aa.edu.ar/wp-content/uploads/2024/12/whatsapp-image-2024-12-27-at-12.42.02-pm.jpeg
END:VEVENT
END:VCALENDAR