BEGIN:VCALENDAR
VERSION:2.0
PRODID:-//Academia Arguello - ECPv6.8.1//NONSGML v1.0//EN
CALSCALE:GREGORIAN
METHOD:PUBLISH
X-ORIGINAL-URL:https://aa.edu.ar
X-WR-CALDESC:Eventos para Academia Arguello
REFRESH-INTERVAL;VALUE=DURATION:PT1H
X-Robots-Tag:noindex
X-PUBLISHED-TTL:PT1H
BEGIN:VTIMEZONE
TZID:America/Argentina/Cordoba
BEGIN:STANDARD
TZOFFSETFROM:-0300
TZOFFSETTO:-0300
TZNAME:-03
DTSTART:20240101T000000
END:STANDARD
END:VTIMEZONE
BEGIN:VEVENT
DTSTART;TZID=America/Argentina/Cordoba:20241202T080000
DTEND;TZID=America/Argentina/Cordoba:20241211T170000
DTSTAMP:20260422T185806
CREATED:20241111T111804Z
LAST-MODIFIED:20241111T111852Z
UID:10001095-1733126400-1733936400@aa.edu.ar
SUMMARY:PERIODO DE INTENSIFICACIÓN DE APRENDIZAJES
DESCRIPTION:DEL 2 AL 11 DE DICIEMBRE
URL:https://aa.edu.ar/evento/periodo-de-intensificacion-de-aprendizajes/
CATEGORIES:Secundario
END:VEVENT
END:VCALENDAR