BEGIN:VCALENDAR
VERSION:2.0
PRODID:-//Academia Arguello - ECPv6.8.1//NONSGML v1.0//EN
CALSCALE:GREGORIAN
METHOD:PUBLISH
X-WR-CALNAME:Academia Arguello
X-ORIGINAL-URL:https://aa.edu.ar
X-WR-CALDESC:Eventos para Academia Arguello
REFRESH-INTERVAL;VALUE=DURATION:PT1H
X-Robots-Tag:noindex
X-PUBLISHED-TTL:PT1H
BEGIN:VTIMEZONE
TZID:America/Argentina/Cordoba
BEGIN:STANDARD
TZOFFSETFROM:-0300
TZOFFSETTO:-0300
TZNAME:-03
DTSTART:20240101T000000
END:STANDARD
END:VTIMEZONE
BEGIN:VEVENT
DTSTART;TZID=America/Argentina/Cordoba:20241119T080000
DTEND;TZID=America/Argentina/Cordoba:20241121T170000
DTSTAMP:20260422T203702
CREATED:20241111T113148Z
LAST-MODIFIED:20241111T113148Z
UID:10001100-1732003200-1732208400@aa.edu.ar
SUMMARY:EXÁMENES DE INGLÉS
DESCRIPTION:Del 19 al 21 de noviembre
URL:https://aa.edu.ar/evento/examenes-de-ingles-3/
CATEGORIES:Primario
END:VEVENT
BEGIN:VEVENT
DTSTART;VALUE=DATE:20241121
DTEND;VALUE=DATE:20241122
DTSTAMP:20260422T203702
CREATED:20241111T110046Z
LAST-MODIFIED:20241111T110046Z
UID:10001090-1732147200-1732233599@aa.edu.ar
SUMMARY:CAMPAMENTO DE 6° AÑO
DESCRIPTION:Campamento de 6to año – Estancia Santa Teresa
URL:https://aa.edu.ar/evento/campamento-de-6-ano/
CATEGORIES:Secundario
END:VEVENT
BEGIN:VEVENT
DTSTART;TZID=America/Argentina/Cordoba:20241121T190000
DTEND;TZID=America/Argentina/Cordoba:20241121T210000
DTSTAMP:20260422T203702
CREATED:20241111T113800Z
LAST-MODIFIED:20241119T141451Z
UID:10001102-1732215600-1732222800@aa.edu.ar
SUMMARY:MUESTRA DE ARTE EGRESADOS
DESCRIPTION:
URL:https://aa.edu.ar/evento/muestra-de-arte-egresados/
CATEGORIES:Institucional
END:VEVENT
END:VCALENDAR