BEGIN:VCALENDAR
VERSION:2.0
PRODID:-//Academia Arguello - ECPv6.8.1//NONSGML v1.0//EN
CALSCALE:GREGORIAN
METHOD:PUBLISH
X-ORIGINAL-URL:https://aa.edu.ar
X-WR-CALDESC:Eventos para Academia Arguello
REFRESH-INTERVAL;VALUE=DURATION:PT1H
X-Robots-Tag:noindex
X-PUBLISHED-TTL:PT1H
BEGIN:VTIMEZONE
TZID:America/Argentina/Cordoba
BEGIN:STANDARD
TZOFFSETFROM:-0300
TZOFFSETTO:-0300
TZNAME:-03
DTSTART:20240101T000000
END:STANDARD
END:VTIMEZONE
BEGIN:VEVENT
DTSTART;VALUE=DATE:20241118
DTEND;VALUE=DATE:20241119
DTSTAMP:20260422T204451
CREATED:20241111T113313Z
LAST-MODIFIED:20241111T113313Z
UID:10001101-1731888000-1731974399@aa.edu.ar
SUMMARY:FERIADO NACIONAL
DESCRIPTION:Feriado nacional por el Día de la Soberanía. No actividad escolar en el colegio y permanecerá cerrado
URL:https://aa.edu.ar/evento/feriado-nacional-2/
CATEGORIES:Institucional
END:VEVENT
END:VCALENDAR