BEGIN:VCALENDAR
VERSION:2.0
PRODID:-//Academia Arguello - ECPv6.8.1//NONSGML v1.0//EN
CALSCALE:GREGORIAN
METHOD:PUBLISH
X-ORIGINAL-URL:https://aa.edu.ar
X-WR-CALDESC:Eventos para Academia Arguello
REFRESH-INTERVAL;VALUE=DURATION:PT1H
X-Robots-Tag:noindex
X-PUBLISHED-TTL:PT1H
BEGIN:VTIMEZONE
TZID:America/Argentina/Cordoba
BEGIN:STANDARD
TZOFFSETFROM:-0300
TZOFFSETTO:-0300
TZNAME:-03
DTSTART:20240101T000000
END:STANDARD
END:VTIMEZONE
BEGIN:VEVENT
DTSTART;VALUE=DATE:20241014
DTEND;VALUE=DATE:20241019
DTSTAMP:20260422T230647
CREATED:20241014T112502Z
LAST-MODIFIED:20241014T112511Z
UID:10001067-1728864000-1729295999@aa.edu.ar
SUMMARY:EXÁMENES DE CAMBRIDGE - ESSARP
DESCRIPTION:14/10 \nBusiness AL Paper 3 AM\nArt and Design 02 AM/PM \n15/10 \nIGCSE Biology AS Paper 6 PM\nMathematics Paper 4 PM \n16/10 \nIGCSE Mathematics Core Paper 31 & Extended Paper 4 AM\nArt and Design 02 AM/PM\nDigital Media and Design 02 AM/PM \n17/10 \nIGCSE Art and Design 02 AM/PM\nDigital Media and Design 02 AM/PM\nMathematics Paper 3 PM \n18/10 \nArt and Design 02 AM/PM\nIGCSE Biology AS Paper 4 PM
URL:https://aa.edu.ar/evento/examenes-de-cambridge-essarp-2/
CATEGORIES:Secundario
END:VEVENT
BEGIN:VEVENT
DTSTART;TZID=America/Argentina/Cordoba:20241015T083000
DTEND;TZID=America/Argentina/Cordoba:20241015T100000
DTSTAMP:20260422T230647
CREATED:20241014T110325Z
LAST-MODIFIED:20241014T110630Z
UID:10001063-1728981000-1728986400@aa.edu.ar
SUMMARY:CHARLA CON NUTRICIONISTA EN 1° GRADO
DESCRIPTION:
URL:https://aa.edu.ar/evento/charla-con-nutricionista-en-1-grado/
CATEGORIES:Primario
END:VEVENT
END:VCALENDAR