BEGIN:VCALENDAR
VERSION:2.0
PRODID:-//Academia Arguello - ECPv6.8.1//NONSGML v1.0//EN
CALSCALE:GREGORIAN
METHOD:PUBLISH
X-ORIGINAL-URL:https://aa.edu.ar
X-WR-CALDESC:Eventos para Academia Arguello
REFRESH-INTERVAL;VALUE=DURATION:PT1H
X-Robots-Tag:noindex
X-PUBLISHED-TTL:PT1H
BEGIN:VTIMEZONE
TZID:America/Argentina/Cordoba
BEGIN:STANDARD
TZOFFSETFROM:-0300
TZOFFSETTO:-0300
TZNAME:-03
DTSTART:20240101T000000
END:STANDARD
END:VTIMEZONE
BEGIN:VEVENT
DTSTART;VALUE=DATE:20241001
DTEND;VALUE=DATE:20241002
DTSTAMP:20260422T224558
CREATED:20240710T112402Z
LAST-MODIFIED:20240710T112402Z
UID:10000965-1727740800-1727827199@aa.edu.ar
SUMMARY:FORMACION SITUADA
DESCRIPTION:Formación a docentes de los tres niveles. No hay actividades presenciales escolares.
URL:https://aa.edu.ar/evento/formacion-situada-2/
CATEGORIES:Institucional
END:VEVENT
BEGIN:VEVENT
DTSTART;VALUE=DATE:20241001
DTEND;VALUE=DATE:20241002
DTSTAMP:20260422T224558
CREATED:20240710T125337Z
LAST-MODIFIED:20240710T125337Z
UID:10000990-1727740800-1727827199@aa.edu.ar
SUMMARY:COMPETENCIA DE MATECLUBES - 3° RONDA
DESCRIPTION:
URL:https://aa.edu.ar/evento/competencia-de-mateclubes-3-ronda/
CATEGORIES:Secundario
END:VEVENT
END:VCALENDAR