BEGIN:VCALENDAR
VERSION:2.0
PRODID:-//Academia Arguello - ECPv6.8.1//NONSGML v1.0//EN
CALSCALE:GREGORIAN
METHOD:PUBLISH
X-ORIGINAL-URL:https://aa.edu.ar
X-WR-CALDESC:Eventos para Academia Arguello
REFRESH-INTERVAL;VALUE=DURATION:PT1H
X-Robots-Tag:noindex
X-PUBLISHED-TTL:PT1H
BEGIN:VTIMEZONE
TZID:America/Argentina/Cordoba
BEGIN:STANDARD
TZOFFSETFROM:-0300
TZOFFSETTO:-0300
TZNAME:-03
DTSTART:20240101T000000
END:STANDARD
END:VTIMEZONE
BEGIN:VEVENT
DTSTART;VALUE=DATE:20240903
DTEND;VALUE=DATE:20240925
DTSTAMP:20260423T010128
CREATED:20240902T162810Z
LAST-MODIFIED:20240902T163238Z
UID:10001037-1725321600-1727222399@aa.edu.ar
SUMMARY:INTERCAMBIO - EE.UU E INGLATERRA.
DESCRIPTION:Estudiantes de 5to año realizan el intercambio a Nueva York\, EE.UU y luego siguen a Londres junto a Paula Rigali y  Cristian Peralta
URL:https://aa.edu.ar/evento/partida-de-intercambios/
CATEGORIES:Secundario
END:VEVENT
BEGIN:VEVENT
DTSTART;VALUE=DATE:20240907
DTEND;VALUE=DATE:20240928
DTSTAMP:20260423T010128
CREATED:20240902T163010Z
LAST-MODIFIED:20240916T121902Z
UID:10001038-1725667200-1727481599@aa.edu.ar
SUMMARY:INTERCAMBIO- FRANCIA
DESCRIPTION:Estudiantes de 5to año realizan el intercambio a Francia junto a Marcela Bertolini y  Carolina Fontana.
URL:https://aa.edu.ar/evento/partida-de-intercambio-francia/
CATEGORIES:Secundario
END:VEVENT
BEGIN:VEVENT
DTSTART;TZID=America/Argentina/Cordoba:20240923T080000
DTEND;TZID=America/Argentina/Cordoba:20240923T130000
DTSTAMP:20260423T010128
CREATED:20240923T110306Z
LAST-MODIFIED:20240923T110555Z
UID:10001047-1727078400-1727096400@aa.edu.ar
SUMMARY:FESTEJO DÍA DE ESTUDIANTE
DESCRIPTION:Se festeja el Día del estudiante en los tres niveles. \nEstudiantes se retiran después de almorzar. \n💪🌼📚🌻🤸‍♂️ ¡FELIZ DÍA! 🤸‍♀️🌸👩‍🏫🌷🙌
URL:https://aa.edu.ar/evento/festejo-dia-de-estudiante/
CATEGORIES:Institucional
END:VEVENT
END:VCALENDAR