BEGIN:VCALENDAR
VERSION:2.0
PRODID:-//Academia Arguello - ECPv6.8.1//NONSGML v1.0//EN
CALSCALE:GREGORIAN
METHOD:PUBLISH
X-ORIGINAL-URL:https://aa.edu.ar
X-WR-CALDESC:Eventos para Academia Arguello
REFRESH-INTERVAL;VALUE=DURATION:PT1H
X-Robots-Tag:noindex
X-PUBLISHED-TTL:PT1H
BEGIN:VTIMEZONE
TZID:America/Argentina/Cordoba
BEGIN:STANDARD
TZOFFSETFROM:-0300
TZOFFSETTO:-0300
TZNAME:-03
DTSTART:20240101T000000
END:STANDARD
END:VTIMEZONE
BEGIN:VEVENT
DTSTART;TZID=America/Argentina/Cordoba:20240819T080000
DTEND;TZID=America/Argentina/Cordoba:20240820T170000
DTSTAMP:20260423T022329
CREATED:20240710T122443Z
LAST-MODIFIED:20240710T122443Z
UID:10000980-1724054400-1724173200@aa.edu.ar
SUMMARY:VIDA EN LA NATURALEZA - 4° AÑO
DESCRIPTION:
URL:https://aa.edu.ar/evento/vida-en-la-naturaleza-4-ano/
LOCATION:Colegio Academia Argüello\, ↗️ Ampliación Av. Rafael Nuñez esquina Pozo de la Loma.\, Córdoba\, Córdoba\, 5000\, Argentina
CATEGORIES:Secundario
END:VEVENT
END:VCALENDAR