BEGIN:VCALENDAR
VERSION:2.0
PRODID:-//Academia Arguello - ECPv6.8.1//NONSGML v1.0//EN
CALSCALE:GREGORIAN
METHOD:PUBLISH
X-WR-CALNAME:Academia Arguello
X-ORIGINAL-URL:https://aa.edu.ar
X-WR-CALDESC:Eventos para Academia Arguello
REFRESH-INTERVAL;VALUE=DURATION:PT1H
X-Robots-Tag:noindex
X-PUBLISHED-TTL:PT1H
BEGIN:VTIMEZONE
TZID:America/Argentina/Cordoba
BEGIN:STANDARD
TZOFFSETFROM:-0300
TZOFFSETTO:-0300
TZNAME:-03
DTSTART:20240101T000000
END:STANDARD
END:VTIMEZONE
BEGIN:VEVENT
DTSTART;TZID=America/Argentina/Cordoba:20240703T080000
DTEND;TZID=America/Argentina/Cordoba:20240703T130000
DTSTAMP:20260423T041510
CREATED:20240424T152450Z
LAST-MODIFIED:20240701T113416Z
UID:10000899-1719993600-1720011600@aa.edu.ar
SUMMARY:ENTREGA DE CARPETAS E INFORMES A PADRES
DESCRIPTION:Reuniones de padres. Entrega de carpetas e informes. \nSalas:
URL:https://aa.edu.ar/evento/entrega-de-carpetas-e-informes-a-padres-2/
LOCATION:Colegio Academia Argüello\, ↗️ Ampliación Av. Rafael Nuñez esquina Pozo de la Loma.\, Córdoba\, Córdoba\, 5000\, Argentina
CATEGORIES:Inicial
END:VEVENT
BEGIN:VEVENT
DTSTART;TZID=America/Argentina/Cordoba:20240703T083000
DTEND;TZID=America/Argentina/Cordoba:20240703T100000
DTSTAMP:20260423T041510
CREATED:20240701T112521Z
LAST-MODIFIED:20240703T115019Z
UID:10000952-1719995400-1720000800@aa.edu.ar
SUMMARY:REUNIÓN VOLUNTARIOS RSE
DESCRIPTION:Segunda reunión de Estudiantes Voluntarios de RSE \nHorario: 8:30h a 10:30h h  \n Lugar: sala de capacitación
URL:https://aa.edu.ar/evento/reunion-voluntarios-rse/
CATEGORIES:Institucional
END:VEVENT
END:VCALENDAR