BEGIN:VCALENDAR
VERSION:2.0
PRODID:-//Academia Arguello - ECPv6.8.1//NONSGML v1.0//EN
CALSCALE:GREGORIAN
METHOD:PUBLISH
X-ORIGINAL-URL:https://aa.edu.ar
X-WR-CALDESC:Eventos para Academia Arguello
REFRESH-INTERVAL;VALUE=DURATION:PT1H
X-Robots-Tag:noindex
X-PUBLISHED-TTL:PT1H
BEGIN:VTIMEZONE
TZID:America/Argentina/Cordoba
BEGIN:STANDARD
TZOFFSETFROM:-0300
TZOFFSETTO:-0300
TZNAME:-03
DTSTART:20240101T000000
END:STANDARD
END:VTIMEZONE
BEGIN:VEVENT
DTSTART;TZID=America/Argentina/Cordoba:20240422T080000
DTEND;TZID=America/Argentina/Cordoba:20240426T170000
DTSTAMP:20260425T090130
CREATED:20240408T121630Z
LAST-MODIFIED:20240408T121630Z
UID:10000083-1713772800-1714150800@aa.edu.ar
SUMMARY:📚 BIBLIOTECAS CIRCULANTES 📚
DESCRIPTION:Visita a la Biblioteca . \nReglamento de la biblioteca. \nApertura del Proyecto de Animación a la lectura. \nConfección de Bolsas para la biblioteca. 
URL:https://aa.edu.ar/evento/%f0%9f%93%9a-bibliotecas-circulantes-%f0%9f%93%9a/
CATEGORIES:Inicial
END:VEVENT
BEGIN:VEVENT
DTSTART;TZID=America/Argentina/Cordoba:20240425T104500
DTEND;TZID=America/Argentina/Cordoba:20240425T140000
DTSTAMP:20260425T090130
CREATED:20240408T122106Z
LAST-MODIFIED:20240425T122111Z
UID:10000085-1714041900-1714053600@aa.edu.ar
SUMMARY:OBRA DE TEATRO - LA GALERA ENCANTADA
DESCRIPTION:Lugar: Biblioteca \nHorario: \n10:45 h \n12:45 h \n 
URL:https://aa.edu.ar/evento/obra-de-teatro-la-galera-encantada/
CATEGORIES:Inicial
END:VEVENT
BEGIN:VEVENT
DTSTART;TZID=America/Argentina/Cordoba:20240425T120000
DTEND;TZID=America/Argentina/Cordoba:20240425T161500
DTSTAMP:20260425T090130
CREATED:20240424T135149Z
LAST-MODIFIED:20240424T135149Z
UID:10000887-1714046400-1714061700@aa.edu.ar
SUMMARY:SALIDA A RESERVA SAN MARTÍN
DESCRIPTION:Participan estudiantes de 6 grado irán a la reserva General San Martín \nHorario: 12h a 16:15h \nMiércoles 24 y Jueves 25
URL:https://aa.edu.ar/evento/salida-a-reserva-san-martin-2/
CATEGORIES:Primario
END:VEVENT
END:VCALENDAR