BEGIN:VCALENDAR
VERSION:2.0
PRODID:-//Academia Arguello - ECPv6.8.1//NONSGML v1.0//EN
CALSCALE:GREGORIAN
METHOD:PUBLISH
X-WR-CALNAME:Academia Arguello
X-ORIGINAL-URL:https://aa.edu.ar
X-WR-CALDESC:Eventos para Academia Arguello
REFRESH-INTERVAL;VALUE=DURATION:PT1H
X-Robots-Tag:noindex
X-PUBLISHED-TTL:PT1H
BEGIN:VTIMEZONE
TZID:America/Argentina/Cordoba
BEGIN:STANDARD
TZOFFSETFROM:-0300
TZOFFSETTO:-0300
TZNAME:-03
DTSTART:20240101T000000
END:STANDARD
END:VTIMEZONE
BEGIN:VEVENT
DTSTART;TZID=America/Argentina/Cordoba:20240422T080000
DTEND;TZID=America/Argentina/Cordoba:20240426T170000
DTSTAMP:20260425T104011
CREATED:20240408T121630Z
LAST-MODIFIED:20240408T121630Z
UID:10000083-1713772800-1714150800@aa.edu.ar
SUMMARY:📚 BIBLIOTECAS CIRCULANTES 📚
DESCRIPTION:Visita a la Biblioteca . \nReglamento de la biblioteca. \nApertura del Proyecto de Animación a la lectura. \nConfección de Bolsas para la biblioteca. 
URL:https://aa.edu.ar/evento/%f0%9f%93%9a-bibliotecas-circulantes-%f0%9f%93%9a/
CATEGORIES:Inicial
END:VEVENT
BEGIN:VEVENT
DTSTART;VALUE=DATE:20240423
DTEND;VALUE=DATE:20240424
DTSTAMP:20260425T104011
CREATED:20240408T121856Z
LAST-MODIFIED:20240408T144626Z
UID:10000084-1713830400-1713916799@aa.edu.ar
SUMMARY:📖 DÍA INTERNACIONAL DEL LIBRO Y DERECHO DE AUTOR
DESCRIPTION:Día internacional del libro y del derecho de autor. Día del idioma.
URL:https://aa.edu.ar/evento/%f0%9f%93%96-dia-internacional-del-libro-y-del-derecho-de-autor-dia-del-idioma/
CATEGORIES:Institucional
END:VEVENT
BEGIN:VEVENT
DTSTART;VALUE=DATE:20240423
DTEND;VALUE=DATE:20240424
DTSTAMP:20260425T104011
CREATED:20240408T144704Z
LAST-MODIFIED:20240408T145046Z
UID:10000095-1713830400-1713916799@aa.edu.ar
SUMMARY:DÍA INTERNACIONAL DEL IDIOMA
DESCRIPTION:
URL:https://aa.edu.ar/evento/dia-internacional-del-idioma/
CATEGORIES:Institucional
END:VEVENT
BEGIN:VEVENT
DTSTART;TZID=America/Argentina/Cordoba:20240423T133000
DTEND;TZID=America/Argentina/Cordoba:20240423T153000
DTSTAMP:20260425T104011
CREATED:20240419T130200Z
LAST-MODIFIED:20240419T130523Z
UID:10000112-1713879000-1713886200@aa.edu.ar
SUMMARY:EARTH DAY MINI PLAY
DESCRIPTION:“Earth day mini play” Estudiantes de 3º año de secundario  realizarán varias representaciones cortas para 3º grado\, para concienciar sobre el cuidado del planeta.  \nOrganiza: Prof. Lorena Senatore\, en colaboración con RSE. \nHorario: De 13.30 a 15.30 h \nLugar: Aulas de 3er grado
URL:https://aa.edu.ar/evento/earth-day-mini-play/
LOCATION:Colegio Academia Argüello\, ↗️ Ampliación Av. Rafael Nuñez esquina Pozo de la Loma.\, Córdoba\, Córdoba\, 5000\, Argentina
CATEGORIES:Secundario
END:VEVENT
BEGIN:VEVENT
DTSTART;TZID=America/Argentina/Cordoba:20240423T150000
DTEND;TZID=America/Argentina/Cordoba:20240423T160000
DTSTAMP:20260425T104011
CREATED:20240417T162510Z
LAST-MODIFIED:20240419T131211Z
UID:10000107-1713884400-1713888000@aa.edu.ar
SUMMARY:¿Que oferta soy para el mundo laboral?
DESCRIPTION:Actividad de 6° año A y B con la Universidad Blas Pascal\, tema ¿Qué oferta soy para el nuevo mundo laboral? \nHora: 15h \nLugar: a confirmar \n 
URL:https://aa.edu.ar/evento/que-oferta-soy-para-el-mundo-laboral/
LOCATION:Colegio Academia Argüello\, ↗️ Ampliación Av. Rafael Nuñez esquina Pozo de la Loma.\, Córdoba\, Córdoba\, 5000\, Argentina
CATEGORIES:Secundario
END:VEVENT
BEGIN:VEVENT
DTSTART;TZID=America/Argentina/Cordoba:20240423T170000
DTEND;TZID=America/Argentina/Cordoba:20240423T183000
DTSTAMP:20260425T104011
CREATED:20240424T160541Z
LAST-MODIFIED:20240424T160541Z
UID:10000900-1713891600-1713897000@aa.edu.ar
SUMMARY:TALLER ESCRITURA DEL ESTANQUE AL DESBORDE. EL RÍO QUE CORRE
DESCRIPTION:Da comienzo el taller de escritura DEL ESTANQUE AL DESBORDE. EL RÍO QUE CORRE dirigido por Flor Rossi \nEncuentros presenciales: días martes\, 17 horas. \nLas semanas intermedias se trabajará con la docente\, de manera asincrónica. Se hará a través de Google Drive. \nEspacio presencial: SUM 1 Academia Argüello
URL:https://aa.edu.ar/evento/taller-escritura-del-estanque-al-desborde-el-rio-que-corre/
LOCATION:Colegio Academia Argüello\, ↗️ Ampliación Av. Rafael Nuñez esquina Pozo de la Loma.\, Córdoba\, Córdoba\, 5000\, Argentina
CATEGORIES:Institucional
END:VEVENT
END:VCALENDAR