BEGIN:VCALENDAR
VERSION:2.0
PRODID:-//Academia Arguello - ECPv6.8.1//NONSGML v1.0//EN
CALSCALE:GREGORIAN
METHOD:PUBLISH
X-ORIGINAL-URL:https://aa.edu.ar
X-WR-CALDESC:Eventos para Academia Arguello
REFRESH-INTERVAL;VALUE=DURATION:PT1H
X-Robots-Tag:noindex
X-PUBLISHED-TTL:PT1H
BEGIN:VTIMEZONE
TZID:America/Argentina/Cordoba
BEGIN:STANDARD
TZOFFSETFROM:-0300
TZOFFSETTO:-0300
TZNAME:-03
DTSTART:20240101T000000
END:STANDARD
END:VTIMEZONE
BEGIN:VEVENT
DTSTART;VALUE=DATE:20240422
DTEND;VALUE=DATE:20240423
DTSTAMP:20260425T104538
CREATED:20240408T131609Z
LAST-MODIFIED:20240408T145408Z
UID:10000091-1713744000-1713830399@aa.edu.ar
SUMMARY:🌎 DÍA DE LA TIERRA 🌎
DESCRIPTION:
URL:https://aa.edu.ar/evento/%f0%9f%8c%8e-dia-de-la-tierra-%f0%9f%8c%8e/
CATEGORIES:Institucional
END:VEVENT
BEGIN:VEVENT
DTSTART;TZID=America/Argentina/Cordoba:20240422T080000
DTEND;TZID=America/Argentina/Cordoba:20240422T120000
DTSTAMP:20260425T104538
CREATED:20240419T125748Z
LAST-MODIFIED:20240419T125806Z
UID:10000111-1713772800-1713787200@aa.edu.ar
SUMMARY:DÍA DE LA TIERRA: Muestra de dibujos
DESCRIPTION:Muestra de dibujos realizados por 2º año con motivo del Día de la Tierra. Organiza: Prof. Ana Gabriela Rojas\, en colaboración con RSE \nLugar: Pasillo secundario \n 
URL:https://aa.edu.ar/evento/dia-de-la-tierra-muestra-de-dibujos/
CATEGORIES:Secundario
END:VEVENT
BEGIN:VEVENT
DTSTART;TZID=America/Argentina/Cordoba:20240422T080000
DTEND;TZID=America/Argentina/Cordoba:20240426T170000
DTSTAMP:20260425T104538
CREATED:20240408T121630Z
LAST-MODIFIED:20240408T121630Z
UID:10000083-1713772800-1714150800@aa.edu.ar
SUMMARY:📚 BIBLIOTECAS CIRCULANTES 📚
DESCRIPTION:Visita a la Biblioteca . \nReglamento de la biblioteca. \nApertura del Proyecto de Animación a la lectura. \nConfección de Bolsas para la biblioteca. 
URL:https://aa.edu.ar/evento/%f0%9f%93%9a-bibliotecas-circulantes-%f0%9f%93%9a/
CATEGORIES:Inicial
END:VEVENT
END:VCALENDAR