BEGIN:VCALENDAR
VERSION:2.0
PRODID:-//Academia Arguello - ECPv6.8.1//NONSGML v1.0//EN
CALSCALE:GREGORIAN
METHOD:PUBLISH
X-ORIGINAL-URL:https://aa.edu.ar
X-WR-CALDESC:Eventos para Academia Arguello
REFRESH-INTERVAL;VALUE=DURATION:PT1H
X-Robots-Tag:noindex
X-PUBLISHED-TTL:PT1H
BEGIN:VTIMEZONE
TZID:America/Argentina/Cordoba
BEGIN:STANDARD
TZOFFSETFROM:-0300
TZOFFSETTO:-0300
TZNAME:-03
DTSTART:20240101T000000
END:STANDARD
END:VTIMEZONE
BEGIN:VEVENT
DTSTART;TZID=America/Argentina/Cordoba:20240228T080000
DTEND;TZID=America/Argentina/Cordoba:20240315T170000
DTSTAMP:20260425T124221
CREATED:20240304T172936Z
LAST-MODIFIED:20240305T172743Z
UID:10000068-1709107200-1710522000@aa.edu.ar
SUMMARY:CAMPAÑA DE ÚTILES ESCOLARES 📚
DESCRIPTION:
URL:https://aa.edu.ar/evento/campana-de-utiles-escolares-%f0%9f%93%9a/
LOCATION:Colegio Academia Argüello\, ↗️ Ampliación Av. Rafael Nuñez esquina Pozo de la Loma.\, Córdoba\, Córdoba\, 5000\, Argentina
CATEGORIES:Institucional
ORGANIZER;CN="Responsabilidad Social Escolar":MAILTO:rse@aa.edu.ar
END:VEVENT
BEGIN:VEVENT
DTSTART;TZID=America/Argentina/Cordoba:20240311T081500
DTEND;TZID=America/Argentina/Cordoba:20240311T094500
DTSTAMP:20260425T124221
CREATED:20240311T111938Z
LAST-MODIFIED:20240311T111938Z
UID:10000071-1710144900-1710150300@aa.edu.ar
SUMMARY:📌 REUNIÓN DE PADRES DE 2do AÑO
DESCRIPTION:Reunión de padres de 2do año \nLugar: Biblioteca del colegio \nHorario: 8.15h \n  \n¡Los esperamos!
URL:https://aa.edu.ar/evento/%f0%9f%93%8c-reunion-de-padres-de-2do-ano/
LOCATION:Colegio Academia Argüello\, ↗️ Ampliación Av. Rafael Nuñez esquina Pozo de la Loma.\, Córdoba\, Córdoba\, 5000\, Argentina
CATEGORIES:Secundario
END:VEVENT
BEGIN:VEVENT
DTSTART;TZID=America/Argentina/Cordoba:20240311T104000
DTEND;TZID=America/Argentina/Cordoba:20240311T160000
DTSTAMP:20260425T124221
CREATED:20240304T162747Z
LAST-MODIFIED:20240305T172715Z
UID:10000067-1710153600-1710172800@aa.edu.ar
SUMMARY:Feria de libros de texto usados
DESCRIPTION:Nos complace compartirles una nueva iniciativa que va a consistir en una Feria  \nde libros de texto usados. Con esta feria queremos contribuir a promover la sostenibilidad en nuestra comunidad con la reutilización de los recursos. Sabemos que la compra – v \nenta de libros usados ya es una práctica habitual en nuestra comunidad\, pero pretendemos facilitar su organización. \nLa Feria se llevará a cabo el día 11 de marzo en la Biblioteca\, durante el horario de 10:40 a 11:30 horas y de 15:00 a 16:00 horas. Para aquellos que deseen participar como vendedores\, les solicitamos amablemente que los libros estén en buenas condiciones\, sin nombres\, roturas ni rayaduras \n  \nEse mismo día\, en el horario del primer recreo (9.10 h) los estudiantes que traigan sus libros para vender deberán acercarlos a la Biblioteca\, y en su interior depositar un sobre\, en el que se consigne en su exterior la siguiente información: \n\n\nDatos del vendedor con la información completa: nombre del estudiante\, curso\, alias/CBU del banco\, precio (sugerimos la mitad que el precio del libro nuevo) \n\nDatos del comprador: dejar espacio en blanco para ser completado al momento de la venta\, solicitando nombre del estudiante y curso.\n\nSe recibe efectivo preferentemente y transferencias directa a cada vendedor particular. \nContaremos con ayuda en la organización de sexto año \n  \nAgradecemos de antemano su acompañamiento en esta iniciativa que promueve prácticas más sostenibles y nos beneficia a todos. Cualquier duda comunicarse a rse@aa.edu.ar
URL:https://aa.edu.ar/evento/feria-de-libros-de-texto-usados/
LOCATION:Colegio Academia Argüello\, ↗️ Ampliación Av. Rafael Nuñez esquina Pozo de la Loma.\, Córdoba\, Córdoba\, 5000\, Argentina
CATEGORIES:Secundario
ATTACH;FMTTYPE=image/png:https://aa.edu.ar/wp-content/uploads/2024/03/feria-de-libros-usados.png
END:VEVENT
END:VCALENDAR